BEGIN:VCALENDAR
VERSION:2.0
PRODID:-//metroassist.org.au - ECPv6.15.20//NONSGML v1.0//EN
CALSCALE:GREGORIAN
METHOD:PUBLISH
X-WR-CALNAME:metroassist.org.au
X-ORIGINAL-URL:https://metroassist.org.au
X-WR-CALDESC:Events for metroassist.org.au
REFRESH-INTERVAL;VALUE=DURATION:PT1H
X-Robots-Tag:noindex
X-PUBLISHED-TTL:PT1H
BEGIN:VTIMEZONE
TZID:UTC
BEGIN:STANDARD
TZOFFSETFROM:+0000
TZOFFSETTO:+0000
TZNAME:UTC
DTSTART:20290101T000000
END:STANDARD
END:VTIMEZONE
BEGIN:VEVENT
DTSTART;TZID=UTC:20300201T093000
DTEND;TZID=UTC:20300201T163000
DTSTAMP:20260420T201546
CREATED:20260402T035459Z
LAST-MODIFIED:20260402T035500Z
UID:10001559-1896168600-1896193800@metroassist.org.au
SUMMARY:Financial Counselling Outreach Drummoyne
DESCRIPTION:Our qualified Financial Counsellors provide free financial counselling for people experiencing financial difficulties by helping them to address financial problems\, make informed decisions and manage their debts to build a long-term capacity to budget and manage money.
URL:https://metroassist.org.au/events/financial-counselling-outreach-2/2030-02-01/
LOCATION:Drummoyne Community Centre\, 10 Cometrowe St\, Drummoyne\, NSW\, 2047
CATEGORIES:Financial Services
ATTACH;FMTTYPE=image/jpeg:https://metroassist.org.au/wp-content/uploads/2025/05/6.jpg
END:VEVENT
BEGIN:VEVENT
DTSTART;TZID=UTC:20300212T093000
DTEND;TZID=UTC:20300212T163000
DTSTAMP:20260420T201546
CREATED:20250919T062657Z
LAST-MODIFIED:20250919T063711Z
UID:10001002-1897119000-1897144200@metroassist.org.au
SUMMARY:Financial Counselling Outreach Homebush
DESCRIPTION:Our qualified Financial Counsellors provide free financial counselling for people experiencing financial difficulties by helping them to address financial problems\, make informed decisions and manage their debts to build a long-term capacity to budget and manage money.
URL:https://metroassist.org.au/events/financial-counselling-outreach-homebush-2/2030-02-12/
LOCATION:Building E\, Suite 1\, 29-35 Burlington Road\, Homebush NSW 2140\, Building E\, Suite 1\, 29-35 Burlington Road\, Homebush\, NSW\, 2140\, Australia
CATEGORIES:Financial Services
ATTACH;FMTTYPE=image/jpeg:https://metroassist.org.au/wp-content/uploads/2025/05/6.jpg
END:VEVENT
BEGIN:VEVENT
DTSTART;TZID=UTC:20300301T093000
DTEND;TZID=UTC:20300301T163000
DTSTAMP:20260420T201546
CREATED:20260402T035459Z
LAST-MODIFIED:20260402T035500Z
UID:10001560-1898587800-1898613000@metroassist.org.au
SUMMARY:Financial Counselling Outreach Drummoyne
DESCRIPTION:Our qualified Financial Counsellors provide free financial counselling for people experiencing financial difficulties by helping them to address financial problems\, make informed decisions and manage their debts to build a long-term capacity to budget and manage money.
URL:https://metroassist.org.au/events/financial-counselling-outreach-2/2030-03-01/
LOCATION:Drummoyne Community Centre\, 10 Cometrowe St\, Drummoyne\, NSW\, 2047
CATEGORIES:Financial Services
ATTACH;FMTTYPE=image/jpeg:https://metroassist.org.au/wp-content/uploads/2025/05/6.jpg
END:VEVENT
BEGIN:VEVENT
DTSTART;TZID=UTC:20300312T093000
DTEND;TZID=UTC:20300312T163000
DTSTAMP:20260420T201546
CREATED:20250919T062657Z
LAST-MODIFIED:20250919T063711Z
UID:10001003-1899538200-1899563400@metroassist.org.au
SUMMARY:Financial Counselling Outreach Homebush
DESCRIPTION:Our qualified Financial Counsellors provide free financial counselling for people experiencing financial difficulties by helping them to address financial problems\, make informed decisions and manage their debts to build a long-term capacity to budget and manage money.
URL:https://metroassist.org.au/events/financial-counselling-outreach-homebush-2/2030-03-12/
LOCATION:Building E\, Suite 1\, 29-35 Burlington Road\, Homebush NSW 2140\, Building E\, Suite 1\, 29-35 Burlington Road\, Homebush\, NSW\, 2140\, Australia
CATEGORIES:Financial Services
ATTACH;FMTTYPE=image/jpeg:https://metroassist.org.au/wp-content/uploads/2025/05/6.jpg
END:VEVENT
BEGIN:VEVENT
DTSTART;TZID=UTC:20300405T093000
DTEND;TZID=UTC:20300405T163000
DTSTAMP:20260420T201546
CREATED:20260402T035459Z
LAST-MODIFIED:20260402T035500Z
UID:10001561-1901611800-1901637000@metroassist.org.au
SUMMARY:Financial Counselling Outreach Drummoyne
DESCRIPTION:Our qualified Financial Counsellors provide free financial counselling for people experiencing financial difficulties by helping them to address financial problems\, make informed decisions and manage their debts to build a long-term capacity to budget and manage money.
URL:https://metroassist.org.au/events/financial-counselling-outreach-2/2030-04-05/
LOCATION:Drummoyne Community Centre\, 10 Cometrowe St\, Drummoyne\, NSW\, 2047
CATEGORIES:Financial Services
ATTACH;FMTTYPE=image/jpeg:https://metroassist.org.au/wp-content/uploads/2025/05/6.jpg
END:VEVENT
BEGIN:VEVENT
DTSTART;TZID=UTC:20300409T093000
DTEND;TZID=UTC:20300409T163000
DTSTAMP:20260420T201546
CREATED:20250919T062657Z
LAST-MODIFIED:20250919T063711Z
UID:10001004-1901957400-1901982600@metroassist.org.au
SUMMARY:Financial Counselling Outreach Homebush
DESCRIPTION:Our qualified Financial Counsellors provide free financial counselling for people experiencing financial difficulties by helping them to address financial problems\, make informed decisions and manage their debts to build a long-term capacity to budget and manage money.
URL:https://metroassist.org.au/events/financial-counselling-outreach-homebush-2/2030-04-09/
LOCATION:Building E\, Suite 1\, 29-35 Burlington Road\, Homebush NSW 2140\, Building E\, Suite 1\, 29-35 Burlington Road\, Homebush\, NSW\, 2140\, Australia
CATEGORIES:Financial Services
ATTACH;FMTTYPE=image/jpeg:https://metroassist.org.au/wp-content/uploads/2025/05/6.jpg
END:VEVENT
BEGIN:VEVENT
DTSTART;TZID=UTC:20300503T093000
DTEND;TZID=UTC:20300503T163000
DTSTAMP:20260420T201546
CREATED:20260402T035459Z
LAST-MODIFIED:20260402T035500Z
UID:10001562-1904031000-1904056200@metroassist.org.au
SUMMARY:Financial Counselling Outreach Drummoyne
DESCRIPTION:Our qualified Financial Counsellors provide free financial counselling for people experiencing financial difficulties by helping them to address financial problems\, make informed decisions and manage their debts to build a long-term capacity to budget and manage money.
URL:https://metroassist.org.au/events/financial-counselling-outreach-2/2030-05-03/
LOCATION:Drummoyne Community Centre\, 10 Cometrowe St\, Drummoyne\, NSW\, 2047
CATEGORIES:Financial Services
ATTACH;FMTTYPE=image/jpeg:https://metroassist.org.au/wp-content/uploads/2025/05/6.jpg
END:VEVENT
BEGIN:VEVENT
DTSTART;TZID=UTC:20300514T093000
DTEND;TZID=UTC:20300514T163000
DTSTAMP:20260420T201546
CREATED:20250919T062657Z
LAST-MODIFIED:20250919T063711Z
UID:10001005-1904981400-1905006600@metroassist.org.au
SUMMARY:Financial Counselling Outreach Homebush
DESCRIPTION:Our qualified Financial Counsellors provide free financial counselling for people experiencing financial difficulties by helping them to address financial problems\, make informed decisions and manage their debts to build a long-term capacity to budget and manage money.
URL:https://metroassist.org.au/events/financial-counselling-outreach-homebush-2/2030-05-14/
LOCATION:Building E\, Suite 1\, 29-35 Burlington Road\, Homebush NSW 2140\, Building E\, Suite 1\, 29-35 Burlington Road\, Homebush\, NSW\, 2140\, Australia
CATEGORIES:Financial Services
ATTACH;FMTTYPE=image/jpeg:https://metroassist.org.au/wp-content/uploads/2025/05/6.jpg
END:VEVENT
BEGIN:VEVENT
DTSTART;TZID=UTC:20300607T093000
DTEND;TZID=UTC:20300607T163000
DTSTAMP:20260420T201546
CREATED:20260402T035459Z
LAST-MODIFIED:20260402T035500Z
UID:10001563-1907055000-1907080200@metroassist.org.au
SUMMARY:Financial Counselling Outreach Drummoyne
DESCRIPTION:Our qualified Financial Counsellors provide free financial counselling for people experiencing financial difficulties by helping them to address financial problems\, make informed decisions and manage their debts to build a long-term capacity to budget and manage money.
URL:https://metroassist.org.au/events/financial-counselling-outreach-2/2030-06-07/
LOCATION:Drummoyne Community Centre\, 10 Cometrowe St\, Drummoyne\, NSW\, 2047
CATEGORIES:Financial Services
ATTACH;FMTTYPE=image/jpeg:https://metroassist.org.au/wp-content/uploads/2025/05/6.jpg
END:VEVENT
BEGIN:VEVENT
DTSTART;TZID=UTC:20300611T093000
DTEND;TZID=UTC:20300611T163000
DTSTAMP:20260420T201546
CREATED:20250919T062657Z
LAST-MODIFIED:20250919T063711Z
UID:10001006-1907400600-1907425800@metroassist.org.au
SUMMARY:Financial Counselling Outreach Homebush
DESCRIPTION:Our qualified Financial Counsellors provide free financial counselling for people experiencing financial difficulties by helping them to address financial problems\, make informed decisions and manage their debts to build a long-term capacity to budget and manage money.
URL:https://metroassist.org.au/events/financial-counselling-outreach-homebush-2/2030-06-11/
LOCATION:Building E\, Suite 1\, 29-35 Burlington Road\, Homebush NSW 2140\, Building E\, Suite 1\, 29-35 Burlington Road\, Homebush\, NSW\, 2140\, Australia
CATEGORIES:Financial Services
ATTACH;FMTTYPE=image/jpeg:https://metroassist.org.au/wp-content/uploads/2025/05/6.jpg
END:VEVENT
BEGIN:VEVENT
DTSTART;TZID=UTC:20300705T093000
DTEND;TZID=UTC:20300705T163000
DTSTAMP:20260420T201546
CREATED:20260402T035459Z
LAST-MODIFIED:20260402T035500Z
UID:10001564-1909474200-1909499400@metroassist.org.au
SUMMARY:Financial Counselling Outreach Drummoyne
DESCRIPTION:Our qualified Financial Counsellors provide free financial counselling for people experiencing financial difficulties by helping them to address financial problems\, make informed decisions and manage their debts to build a long-term capacity to budget and manage money.
URL:https://metroassist.org.au/events/financial-counselling-outreach-2/2030-07-05/
LOCATION:Drummoyne Community Centre\, 10 Cometrowe St\, Drummoyne\, NSW\, 2047
CATEGORIES:Financial Services
ATTACH;FMTTYPE=image/jpeg:https://metroassist.org.au/wp-content/uploads/2025/05/6.jpg
END:VEVENT
BEGIN:VEVENT
DTSTART;TZID=UTC:20300709T093000
DTEND;TZID=UTC:20300709T163000
DTSTAMP:20260420T201546
CREATED:20250919T062657Z
LAST-MODIFIED:20250919T063711Z
UID:10001007-1909819800-1909845000@metroassist.org.au
SUMMARY:Financial Counselling Outreach Homebush
DESCRIPTION:Our qualified Financial Counsellors provide free financial counselling for people experiencing financial difficulties by helping them to address financial problems\, make informed decisions and manage their debts to build a long-term capacity to budget and manage money.
URL:https://metroassist.org.au/events/financial-counselling-outreach-homebush-2/2030-07-09/
LOCATION:Building E\, Suite 1\, 29-35 Burlington Road\, Homebush NSW 2140\, Building E\, Suite 1\, 29-35 Burlington Road\, Homebush\, NSW\, 2140\, Australia
CATEGORIES:Financial Services
ATTACH;FMTTYPE=image/jpeg:https://metroassist.org.au/wp-content/uploads/2025/05/6.jpg
END:VEVENT
BEGIN:VEVENT
DTSTART;TZID=UTC:20300802T093000
DTEND;TZID=UTC:20300802T163000
DTSTAMP:20260420T201546
CREATED:20260402T035459Z
LAST-MODIFIED:20260402T035500Z
UID:10001565-1911893400-1911918600@metroassist.org.au
SUMMARY:Financial Counselling Outreach Drummoyne
DESCRIPTION:Our qualified Financial Counsellors provide free financial counselling for people experiencing financial difficulties by helping them to address financial problems\, make informed decisions and manage their debts to build a long-term capacity to budget and manage money.
URL:https://metroassist.org.au/events/financial-counselling-outreach-2/2030-08-02/
LOCATION:Drummoyne Community Centre\, 10 Cometrowe St\, Drummoyne\, NSW\, 2047
CATEGORIES:Financial Services
ATTACH;FMTTYPE=image/jpeg:https://metroassist.org.au/wp-content/uploads/2025/05/6.jpg
END:VEVENT
BEGIN:VEVENT
DTSTART;TZID=UTC:20300813T093000
DTEND;TZID=UTC:20300813T163000
DTSTAMP:20260420T201546
CREATED:20250919T062657Z
LAST-MODIFIED:20250919T063711Z
UID:10001008-1912843800-1912869000@metroassist.org.au
SUMMARY:Financial Counselling Outreach Homebush
DESCRIPTION:Our qualified Financial Counsellors provide free financial counselling for people experiencing financial difficulties by helping them to address financial problems\, make informed decisions and manage their debts to build a long-term capacity to budget and manage money.
URL:https://metroassist.org.au/events/financial-counselling-outreach-homebush-2/2030-08-13/
LOCATION:Building E\, Suite 1\, 29-35 Burlington Road\, Homebush NSW 2140\, Building E\, Suite 1\, 29-35 Burlington Road\, Homebush\, NSW\, 2140\, Australia
CATEGORIES:Financial Services
ATTACH;FMTTYPE=image/jpeg:https://metroassist.org.au/wp-content/uploads/2025/05/6.jpg
END:VEVENT
BEGIN:VEVENT
DTSTART;TZID=UTC:20300906T093000
DTEND;TZID=UTC:20300906T163000
DTSTAMP:20260420T201546
CREATED:20260402T035459Z
LAST-MODIFIED:20260402T035500Z
UID:10001566-1914917400-1914942600@metroassist.org.au
SUMMARY:Financial Counselling Outreach Drummoyne
DESCRIPTION:Our qualified Financial Counsellors provide free financial counselling for people experiencing financial difficulties by helping them to address financial problems\, make informed decisions and manage their debts to build a long-term capacity to budget and manage money.
URL:https://metroassist.org.au/events/financial-counselling-outreach-2/2030-09-06/
LOCATION:Drummoyne Community Centre\, 10 Cometrowe St\, Drummoyne\, NSW\, 2047
CATEGORIES:Financial Services
ATTACH;FMTTYPE=image/jpeg:https://metroassist.org.au/wp-content/uploads/2025/05/6.jpg
END:VEVENT
BEGIN:VEVENT
DTSTART;TZID=UTC:20300910T093000
DTEND;TZID=UTC:20300910T163000
DTSTAMP:20260420T201546
CREATED:20250919T062657Z
LAST-MODIFIED:20250919T063711Z
UID:10001054-1915263000-1915288200@metroassist.org.au
SUMMARY:Financial Counselling Outreach Homebush
DESCRIPTION:Our qualified Financial Counsellors provide free financial counselling for people experiencing financial difficulties by helping them to address financial problems\, make informed decisions and manage their debts to build a long-term capacity to budget and manage money.
URL:https://metroassist.org.au/events/financial-counselling-outreach-homebush-2/2030-09-10/
LOCATION:Building E\, Suite 1\, 29-35 Burlington Road\, Homebush NSW 2140\, Building E\, Suite 1\, 29-35 Burlington Road\, Homebush\, NSW\, 2140\, Australia
CATEGORIES:Financial Services
ATTACH;FMTTYPE=image/jpeg:https://metroassist.org.au/wp-content/uploads/2025/05/6.jpg
END:VEVENT
BEGIN:VEVENT
DTSTART;TZID=UTC:20301004T093000
DTEND;TZID=UTC:20301004T163000
DTSTAMP:20260420T201546
CREATED:20260402T035459Z
LAST-MODIFIED:20260402T035500Z
UID:10001567-1917336600-1917361800@metroassist.org.au
SUMMARY:Financial Counselling Outreach Drummoyne
DESCRIPTION:Our qualified Financial Counsellors provide free financial counselling for people experiencing financial difficulties by helping them to address financial problems\, make informed decisions and manage their debts to build a long-term capacity to budget and manage money.
URL:https://metroassist.org.au/events/financial-counselling-outreach-2/2030-10-04/
LOCATION:Drummoyne Community Centre\, 10 Cometrowe St\, Drummoyne\, NSW\, 2047
CATEGORIES:Financial Services
ATTACH;FMTTYPE=image/jpeg:https://metroassist.org.au/wp-content/uploads/2025/05/6.jpg
END:VEVENT
BEGIN:VEVENT
DTSTART;TZID=UTC:20301008T093000
DTEND;TZID=UTC:20301008T163000
DTSTAMP:20260420T201546
CREATED:20250919T062657Z
LAST-MODIFIED:20250919T063711Z
UID:10001503-1917682200-1917707400@metroassist.org.au
SUMMARY:Financial Counselling Outreach Homebush
DESCRIPTION:Our qualified Financial Counsellors provide free financial counselling for people experiencing financial difficulties by helping them to address financial problems\, make informed decisions and manage their debts to build a long-term capacity to budget and manage money.
URL:https://metroassist.org.au/events/financial-counselling-outreach-homebush-2/2030-10-08/
LOCATION:Building E\, Suite 1\, 29-35 Burlington Road\, Homebush NSW 2140\, Building E\, Suite 1\, 29-35 Burlington Road\, Homebush\, NSW\, 2140\, Australia
CATEGORIES:Financial Services
ATTACH;FMTTYPE=image/jpeg:https://metroassist.org.au/wp-content/uploads/2025/05/6.jpg
END:VEVENT
BEGIN:VEVENT
DTSTART;TZID=UTC:20301101T093000
DTEND;TZID=UTC:20301101T163000
DTSTAMP:20260420T201546
CREATED:20260402T035459Z
LAST-MODIFIED:20260402T035500Z
UID:10001568-1919755800-1919781000@metroassist.org.au
SUMMARY:Financial Counselling Outreach Drummoyne
DESCRIPTION:Our qualified Financial Counsellors provide free financial counselling for people experiencing financial difficulties by helping them to address financial problems\, make informed decisions and manage their debts to build a long-term capacity to budget and manage money.
URL:https://metroassist.org.au/events/financial-counselling-outreach-2/2030-11-01/
LOCATION:Drummoyne Community Centre\, 10 Cometrowe St\, Drummoyne\, NSW\, 2047
CATEGORIES:Financial Services
ATTACH;FMTTYPE=image/jpeg:https://metroassist.org.au/wp-content/uploads/2025/05/6.jpg
END:VEVENT
BEGIN:VEVENT
DTSTART;TZID=UTC:20301112T093000
DTEND;TZID=UTC:20301112T163000
DTSTAMP:20260420T201546
CREATED:20250919T062657Z
LAST-MODIFIED:20250919T063711Z
UID:10001504-1920706200-1920731400@metroassist.org.au
SUMMARY:Financial Counselling Outreach Homebush
DESCRIPTION:Our qualified Financial Counsellors provide free financial counselling for people experiencing financial difficulties by helping them to address financial problems\, make informed decisions and manage their debts to build a long-term capacity to budget and manage money.
URL:https://metroassist.org.au/events/financial-counselling-outreach-homebush-2/2030-11-12/
LOCATION:Building E\, Suite 1\, 29-35 Burlington Road\, Homebush NSW 2140\, Building E\, Suite 1\, 29-35 Burlington Road\, Homebush\, NSW\, 2140\, Australia
CATEGORIES:Financial Services
ATTACH;FMTTYPE=image/jpeg:https://metroassist.org.au/wp-content/uploads/2025/05/6.jpg
END:VEVENT
BEGIN:VEVENT
DTSTART;TZID=UTC:20301206T093000
DTEND;TZID=UTC:20301206T163000
DTSTAMP:20260420T201546
CREATED:20260402T035459Z
LAST-MODIFIED:20260402T035500Z
UID:10001569-1922779800-1922805000@metroassist.org.au
SUMMARY:Financial Counselling Outreach Drummoyne
DESCRIPTION:Our qualified Financial Counsellors provide free financial counselling for people experiencing financial difficulties by helping them to address financial problems\, make informed decisions and manage their debts to build a long-term capacity to budget and manage money.
URL:https://metroassist.org.au/events/financial-counselling-outreach-2/2030-12-06/
LOCATION:Drummoyne Community Centre\, 10 Cometrowe St\, Drummoyne\, NSW\, 2047
CATEGORIES:Financial Services
ATTACH;FMTTYPE=image/jpeg:https://metroassist.org.au/wp-content/uploads/2025/05/6.jpg
END:VEVENT
BEGIN:VEVENT
DTSTART;TZID=UTC:20301210T093000
DTEND;TZID=UTC:20301210T163000
DTSTAMP:20260420T201546
CREATED:20250919T062657Z
LAST-MODIFIED:20250919T063711Z
UID:10001505-1923125400-1923150600@metroassist.org.au
SUMMARY:Financial Counselling Outreach Homebush
DESCRIPTION:Our qualified Financial Counsellors provide free financial counselling for people experiencing financial difficulties by helping them to address financial problems\, make informed decisions and manage their debts to build a long-term capacity to budget and manage money.
URL:https://metroassist.org.au/events/financial-counselling-outreach-homebush-2/2030-12-10/
LOCATION:Building E\, Suite 1\, 29-35 Burlington Road\, Homebush NSW 2140\, Building E\, Suite 1\, 29-35 Burlington Road\, Homebush\, NSW\, 2140\, Australia
CATEGORIES:Financial Services
ATTACH;FMTTYPE=image/jpeg:https://metroassist.org.au/wp-content/uploads/2025/05/6.jpg
END:VEVENT
BEGIN:VEVENT
DTSTART;TZID=UTC:20310103T093000
DTEND;TZID=UTC:20310103T163000
DTSTAMP:20260420T201546
CREATED:20260402T035459Z
LAST-MODIFIED:20260402T035500Z
UID:10001570-1925199000-1925224200@metroassist.org.au
SUMMARY:Financial Counselling Outreach Drummoyne
DESCRIPTION:Our qualified Financial Counsellors provide free financial counselling for people experiencing financial difficulties by helping them to address financial problems\, make informed decisions and manage their debts to build a long-term capacity to budget and manage money.
URL:https://metroassist.org.au/events/financial-counselling-outreach-2/2031-01-03/
LOCATION:Drummoyne Community Centre\, 10 Cometrowe St\, Drummoyne\, NSW\, 2047
CATEGORIES:Financial Services
ATTACH;FMTTYPE=image/jpeg:https://metroassist.org.au/wp-content/uploads/2025/05/6.jpg
END:VEVENT
BEGIN:VEVENT
DTSTART;TZID=UTC:20310114T093000
DTEND;TZID=UTC:20310114T163000
DTSTAMP:20260420T201546
CREATED:20250919T062657Z
LAST-MODIFIED:20250919T063711Z
UID:10001506-1926149400-1926174600@metroassist.org.au
SUMMARY:Financial Counselling Outreach Homebush
DESCRIPTION:Our qualified Financial Counsellors provide free financial counselling for people experiencing financial difficulties by helping them to address financial problems\, make informed decisions and manage their debts to build a long-term capacity to budget and manage money.
URL:https://metroassist.org.au/events/financial-counselling-outreach-homebush-2/2031-01-14/
LOCATION:Building E\, Suite 1\, 29-35 Burlington Road\, Homebush NSW 2140\, Building E\, Suite 1\, 29-35 Burlington Road\, Homebush\, NSW\, 2140\, Australia
CATEGORIES:Financial Services
ATTACH;FMTTYPE=image/jpeg:https://metroassist.org.au/wp-content/uploads/2025/05/6.jpg
END:VEVENT
BEGIN:VEVENT
DTSTART;TZID=UTC:20310207T093000
DTEND;TZID=UTC:20310207T163000
DTSTAMP:20260420T201546
CREATED:20260402T035459Z
LAST-MODIFIED:20260402T035500Z
UID:10001571-1928223000-1928248200@metroassist.org.au
SUMMARY:Financial Counselling Outreach Drummoyne
DESCRIPTION:Our qualified Financial Counsellors provide free financial counselling for people experiencing financial difficulties by helping them to address financial problems\, make informed decisions and manage their debts to build a long-term capacity to budget and manage money.
URL:https://metroassist.org.au/events/financial-counselling-outreach-2/2031-02-07/
LOCATION:Drummoyne Community Centre\, 10 Cometrowe St\, Drummoyne\, NSW\, 2047
CATEGORIES:Financial Services
ATTACH;FMTTYPE=image/jpeg:https://metroassist.org.au/wp-content/uploads/2025/05/6.jpg
END:VEVENT
BEGIN:VEVENT
DTSTART;TZID=UTC:20310211T093000
DTEND;TZID=UTC:20310211T163000
DTSTAMP:20260420T201546
CREATED:20250919T062657Z
LAST-MODIFIED:20250919T063711Z
UID:10001507-1928568600-1928593800@metroassist.org.au
SUMMARY:Financial Counselling Outreach Homebush
DESCRIPTION:Our qualified Financial Counsellors provide free financial counselling for people experiencing financial difficulties by helping them to address financial problems\, make informed decisions and manage their debts to build a long-term capacity to budget and manage money.
URL:https://metroassist.org.au/events/financial-counselling-outreach-homebush-2/2031-02-11/
LOCATION:Building E\, Suite 1\, 29-35 Burlington Road\, Homebush NSW 2140\, Building E\, Suite 1\, 29-35 Burlington Road\, Homebush\, NSW\, 2140\, Australia
CATEGORIES:Financial Services
ATTACH;FMTTYPE=image/jpeg:https://metroassist.org.au/wp-content/uploads/2025/05/6.jpg
END:VEVENT
BEGIN:VEVENT
DTSTART;TZID=UTC:20310307T093000
DTEND;TZID=UTC:20310307T163000
DTSTAMP:20260420T201546
CREATED:20260402T035459Z
LAST-MODIFIED:20260402T035500Z
UID:10001572-1930642200-1930667400@metroassist.org.au
SUMMARY:Financial Counselling Outreach Drummoyne
DESCRIPTION:Our qualified Financial Counsellors provide free financial counselling for people experiencing financial difficulties by helping them to address financial problems\, make informed decisions and manage their debts to build a long-term capacity to budget and manage money.
URL:https://metroassist.org.au/events/financial-counselling-outreach-2/2031-03-07/
LOCATION:Drummoyne Community Centre\, 10 Cometrowe St\, Drummoyne\, NSW\, 2047
CATEGORIES:Financial Services
ATTACH;FMTTYPE=image/jpeg:https://metroassist.org.au/wp-content/uploads/2025/05/6.jpg
END:VEVENT
BEGIN:VEVENT
DTSTART;TZID=UTC:20310311T093000
DTEND;TZID=UTC:20310311T163000
DTSTAMP:20260420T201546
CREATED:20250919T062657Z
LAST-MODIFIED:20250919T063711Z
UID:10001508-1930987800-1931013000@metroassist.org.au
SUMMARY:Financial Counselling Outreach Homebush
DESCRIPTION:Our qualified Financial Counsellors provide free financial counselling for people experiencing financial difficulties by helping them to address financial problems\, make informed decisions and manage their debts to build a long-term capacity to budget and manage money.
URL:https://metroassist.org.au/events/financial-counselling-outreach-homebush-2/2031-03-11/
LOCATION:Building E\, Suite 1\, 29-35 Burlington Road\, Homebush NSW 2140\, Building E\, Suite 1\, 29-35 Burlington Road\, Homebush\, NSW\, 2140\, Australia
CATEGORIES:Financial Services
ATTACH;FMTTYPE=image/jpeg:https://metroassist.org.au/wp-content/uploads/2025/05/6.jpg
END:VEVENT
BEGIN:VEVENT
DTSTART;TZID=UTC:20310408T093000
DTEND;TZID=UTC:20310408T163000
DTSTAMP:20260420T201546
CREATED:20250919T062657Z
LAST-MODIFIED:20250919T063711Z
UID:10001576-1933407000-1933432200@metroassist.org.au
SUMMARY:Financial Counselling Outreach Homebush
DESCRIPTION:Our qualified Financial Counsellors provide free financial counselling for people experiencing financial difficulties by helping them to address financial problems\, make informed decisions and manage their debts to build a long-term capacity to budget and manage money.
URL:https://metroassist.org.au/events/financial-counselling-outreach-homebush-2/2031-04-08/
LOCATION:Building E\, Suite 1\, 29-35 Burlington Road\, Homebush NSW 2140\, Building E\, Suite 1\, 29-35 Burlington Road\, Homebush\, NSW\, 2140\, Australia
CATEGORIES:Financial Services
ATTACH;FMTTYPE=image/jpeg:https://metroassist.org.au/wp-content/uploads/2025/05/6.jpg
END:VEVENT
END:VCALENDAR